BEGIN:VCALENDAR
VERSION:2.0
PRODID:-//NOTARIA 70 BOGOTA - ECPv5.8.0//NONSGML v1.0//EN
CALSCALE:GREGORIAN
METHOD:PUBLISH
X-WR-CALNAME:NOTARIA 70 BOGOTA
X-ORIGINAL-URL:https://notaria70bogota.com
X-WR-CALDESC:Eventos para NOTARIA 70 BOGOTA
BEGIN:VTIMEZONE
TZID:UTC
BEGIN:STANDARD
TZOFFSETFROM:+0000
TZOFFSETTO:+0000
TZNAME:UTC
DTSTART:20220101T000000
END:STANDARD
END:VTIMEZONE
BEGIN:VEVENT
DTSTART;TZID=UTC:20220625T100000
DTEND;TZID=UTC:20220625T110000
DTSTAMP:20260423T100324
CREATED:20220601T193940Z
LAST-MODIFIED:20220625T142450Z
UID:6457-1656151200-1656154800@notaria70bogota.com
SUMMARY:REPROGRAMADO T 793-22
DESCRIPTION:REPROGRAMADO T 793-22 \n\n\n\nREPROGRAMADO MATRIMONIO T 793-22 – (SE CAMBIO DEL 4 AL 25 DE JUNIO )Y SE CAMBIA DEL 25 AL 09 DE JULIO DE 2022 –
URL:https://notaria70bogota.com/index.php/event/matrimonio-t-793-22-2/
LOCATION:NOTARIA 70\, CALLE 72A #71D-36\, BOGOTÁ D.C.\, CUNDINAMARCA\, 091\, Colombia
ATTACH;FMTTYPE=image/jpeg:https://notaria70bogota.com/wp-content/uploads/2022/05/MATRIMO.jpeg
ORGANIZER;CN="Notraria%2070%20de%20Bogot%C3%A1":MAILTO:notaria70bogota@gmail.com
END:VEVENT
END:VCALENDAR